BEGIN:VCALENDAR
VERSION:2.0
PRODID:-//Gempt-Halle Lengerich - ECPv6.8.1//NONSGML v1.0//EN
CALSCALE:GREGORIAN
METHOD:PUBLISH
X-WR-CALNAME:Gempt-Halle Lengerich
X-ORIGINAL-URL:https://gempthalle.de
X-WR-CALDESC:Veranstaltungen für Gempt-Halle Lengerich
REFRESH-INTERVAL;VALUE=DURATION:PT1H
X-Robots-Tag:noindex
X-PUBLISHED-TTL:PT1H
BEGIN:VTIMEZONE
TZID:Europe/Berlin
BEGIN:DAYLIGHT
TZOFFSETFROM:+0100
TZOFFSETTO:+0200
TZNAME:CEST
DTSTART:20260329T010000
END:DAYLIGHT
BEGIN:STANDARD
TZOFFSETFROM:+0200
TZOFFSETTO:+0100
TZNAME:CET
DTSTART:20261025T010000
END:STANDARD
END:VTIMEZONE
BEGIN:VEVENT
DTSTART;TZID=Europe/Berlin:20260421T200000
DTEND;TZID=Europe/Berlin:20260421T200000
DTSTAMP:20260421T023820
CREATED:20260317T083959Z
LAST-MODIFIED:20260320T095115Z
UID:10001062-1776801600-1776801600@gempthalle.de
SUMMARY:Vorhang auf!
DESCRIPTION:[vc_row type=”in_container” full_screen_row_position=”middle” column_margin=”default” column_direction=”default” column_direction_tablet=”default” column_direction_phone=”default” scene_position=”center” text_color=”dark” text_align=”left” row_border_radius=”none” row_border_radius_applies=”bg” overflow=”visible” overlay_strength=”0.3″ gradient_direction=”left_to_right” shape_divider_position=”bottom” bg_image_animation=”none”][vc_column column_padding=”padding-3-percent” column_padding_tablet=”inherit” column_padding_phone=”inherit” column_padding_position=”right” column_element_direction_desktop=”default” column_element_spacing=”default” desktop_text_alignment=”default” tablet_text_alignment=”default” phone_text_alignment=”default” background_color_opacity=”1″ background_hover_color_opacity=”1″ column_backdrop_filter=”none” column_shadow=”none” column_border_radius=”none” column_link_target=”_self” column_position=”default” gradient_direction=”left_to_right” overlay_strength=”0.3″ width=”2/3″ tablet_width_inherit=”default” animation_type=”default” bg_image_animation=”none” border_type=”simple” column_border_width=”none” column_border_style=”solid” column_padding_type=”default” gradient_type=”default”][vc_column_text]Vorhang auf! \nBereit für einen Abend voller Überraschungen und unvergesslichem Entertainment? \nKomm zur offenen Bühne in der Gempt-Halle! Erlebe ein abwechslungsreiches Programm mit Comedy\, Gesang und vielen weiteren Talenten. \nUnd das Beste: Der Eintritt ist frei! Wer spontan Lust hat\, selbst auf die Bühne zu gehen\, kann das auch tun![/vc_column_text][/vc_column][vc_column column_padding=”no-extra-padding” column_padding_tablet=”inherit” column_padding_phone=”inherit” column_padding_position=”all” column_element_direction_desktop=”default” column_element_spacing=”default” desktop_text_alignment=”default” tablet_text_alignment=”default” phone_text_alignment=”default” background_color_opacity=”1″ background_hover_color_opacity=”1″ column_backdrop_filter=”none” column_shadow=”none” column_border_radius=”none” column_link_target=”_self” column_position=”default” gradient_direction=”left_to_right” overlay_strength=”0.3″ width=”1/3″ tablet_width_inherit=”default” animation_type=”default” bg_image_animation=”none” border_type=”simple” column_border_width=”none” column_border_style=”solid”][vc_row_inner content_placement=”middle” column_margin=”default” column_direction=”default” column_direction_tablet=”default” column_direction_phone=”default” top_padding=”5%” constrain_group_1=”yes” bottom_padding=”5%” left_padding_desktop=”7%” constrain_group_2=”yes” right_padding_desktop=”7%” text_align=”left” row_position=”default” row_position_tablet=”inherit” row_position_phone=”inherit” overflow=”visible” pointer_events=”all” css=”.vc_custom_1664130701341{background-color: #e9e9e9 !important;}”][vc_column_inner column_padding=”no-extra-padding” column_padding_tablet=”inherit” column_padding_phone=”inherit” column_padding_position=”all” column_element_direction_desktop=”default” column_element_spacing=”default” desktop_text_alignment=”default” tablet_text_alignment=”default” phone_text_alignment=”default” background_color_opacity=”1″ background_hover_color_opacity=”1″ column_backdrop_filter=”none” column_shadow=”none” column_border_radius=”none” column_link_target=”_self” overflow=”visible” gradient_direction=”left_to_right” overlay_strength=”0.3″ width=”1/1″ tablet_width_inherit=”default” animation_type=”default” bg_image_animation=”none” border_type=”simple” column_border_width=”none” column_border_style=”solid”][vc_column_text]\n\n\n\n\nEintritt\n\n\n\n\nNormalpreis\nfrei\n\n\n\n\n\n\n\n[/vc_column_text][/vc_column_inner][/vc_row_inner][vc_row_inner content_placement=”middle” column_margin=”default” column_direction=”default” column_direction_tablet=”default” column_direction_phone=”default” top_padding=”5%” constrain_group_1=”yes” bottom_padding=”5%” left_padding_desktop=”7%” constrain_group_2=”yes” right_padding_desktop=”7%” text_align=”left” row_position=”default” row_position_tablet=”inherit” row_position_phone=”inherit” overflow=”visible” pointer_events=”all” css=”.vc_custom_1664130701341{background-color: #e9e9e9 !important;}”][vc_column_inner column_padding=”no-extra-padding” column_padding_tablet=”inherit” column_padding_phone=”inherit” column_padding_position=”all” column_element_direction_desktop=”default” column_element_spacing=”default” desktop_text_alignment=”default” tablet_text_alignment=”default” phone_text_alignment=”default” background_color_opacity=”1″ background_hover_color_opacity=”1″ column_backdrop_filter=”none” column_shadow=”none” column_border_radius=”none” column_link_target=”_self” overflow=”visible” gradient_direction=”left_to_right” overlay_strength=”0.3″ width=”1/1″ tablet_width_inherit=”default” animation_type=”default” bg_image_animation=”none” border_type=”simple” column_border_width=”none” column_border_style=”solid”][vc_column_text]\n\n\n\n\nZeiten\n\n\n\n\nEinlass\n19 Uhr\n\n\nBeginn\n20 Uhr\n\n\n\n[/vc_column_text][/vc_column_inner][/vc_row_inner][vc_row_inner content_placement=”middle” column_margin=”default” column_direction=”default” column_direction_tablet=”default” column_direction_phone=”default” top_padding=”6%” left_padding_desktop=”7%” constrain_group_2=”yes” right_padding_desktop=”7%” text_align=”left” row_position=”default” row_position_tablet=”inherit” row_position_phone=”inherit” overflow=”visible” pointer_events=”all” css=”.vc_custom_1664131605963{background-color: #e9e9e9 !important;}”][vc_column_inner column_padding=”no-extra-padding” column_padding_tablet=”inherit” column_padding_phone=”inherit” column_padding_position=”all” column_element_direction_desktop=”default” column_element_spacing=”default” desktop_text_alignment=”default” tablet_text_alignment=”default” phone_text_alignment=”default” background_color_opacity=”1″ background_hover_color_opacity=”1″ column_backdrop_filter=”none” column_shadow=”none” column_border_radius=”none” column_link_target=”_self” overflow=”visible” gradient_direction=”left_to_right” overlay_strength=”0.3″ width=”1/1″ tablet_width_inherit=”default” animation_type=”default” bg_image_animation=”none” border_type=”simple” column_border_width=”none” column_border_style=”solid”][vc_column_text]\nVorverkauf\nNur Tageskasse[/vc_column_text][/vc_column_inner][/vc_row_inner][/vc_column][/vc_row]
URL:https://gempthalle.de/event/vorhang-auf-3/
LOCATION:Gempt-Halle\, Gemptplatz 1\, Lengerich\, 49525
ATTACH;FMTTYPE=image/jpeg:https://gempthalle.de/gempt/wp-content/uploads/2024/12/Vorhang-auf-Teaser-e1734691233675.jpg
ORGANIZER;CN="B%C3%BCrgerstiftung Gempt Lengerich":MAILTO:info@gempthalle.de
END:VEVENT
END:VCALENDAR